BEGIN:VCALENDAR
VERSION:2.0
PRODID:-//Granby Senior Center - ECPv6.15.20//NONSGML v1.0//EN
CALSCALE:GREGORIAN
METHOD:PUBLISH
X-WR-CALNAME:Granby Senior Center
X-ORIGINAL-URL:https://granbycouncilonaging.org
X-WR-CALDESC:Events for Granby Senior Center
REFRESH-INTERVAL;VALUE=DURATION:PT1H
X-Robots-Tag:noindex
X-PUBLISHED-TTL:PT1H
BEGIN:VTIMEZONE
TZID:America/New_York
BEGIN:DAYLIGHT
TZOFFSETFROM:-0500
TZOFFSETTO:-0400
TZNAME:EDT
DTSTART:20220313T070000
END:DAYLIGHT
BEGIN:STANDARD
TZOFFSETFROM:-0400
TZOFFSETTO:-0500
TZNAME:EST
DTSTART:20221106T060000
END:STANDARD
BEGIN:DAYLIGHT
TZOFFSETFROM:-0500
TZOFFSETTO:-0400
TZNAME:EDT
DTSTART:20230312T070000
END:DAYLIGHT
BEGIN:STANDARD
TZOFFSETFROM:-0400
TZOFFSETTO:-0500
TZNAME:EST
DTSTART:20231105T060000
END:STANDARD
BEGIN:DAYLIGHT
TZOFFSETFROM:-0500
TZOFFSETTO:-0400
TZNAME:EDT
DTSTART:20240310T070000
END:DAYLIGHT
BEGIN:STANDARD
TZOFFSETFROM:-0400
TZOFFSETTO:-0500
TZNAME:EST
DTSTART:20241103T060000
END:STANDARD
END:VTIMEZONE
BEGIN:VEVENT
DTSTART;TZID=America/New_York:20230515T100000
DTEND;TZID=America/New_York:20230515T110000
DTSTAMP:20260421T150220
CREATED:20230426T173736Z
LAST-MODIFIED:20230426T173736Z
UID:889-1684144800-1684148400@granbycouncilonaging.org
SUMMARY:Healthy Bones & Balance
DESCRIPTION:
URL:https://granbycouncilonaging.org/event/healthy-bones-balance-17/
END:VEVENT
BEGIN:VEVENT
DTSTART;TZID=America/New_York:20230515T093000
DTEND;TZID=America/New_York:20230515T120000
DTSTAMP:20260421T150220
CREATED:20230426T174321Z
LAST-MODIFIED:20230426T174321Z
UID:912-1684143000-1684152000@granbycouncilonaging.org
SUMMARY:Footcare Clinic
DESCRIPTION:Call to book an appointment.
URL:https://granbycouncilonaging.org/event/footcare-clinic-2/
END:VEVENT
BEGIN:VEVENT
DTSTART;TZID=America/New_York:20230512T130000
DTEND;TZID=America/New_York:20230512T150000
DTSTAMP:20260421T150220
CREATED:20230426T175323Z
LAST-MODIFIED:20230426T175323Z
UID:941-1683896400-1683903600@granbycouncilonaging.org
SUMMARY:Fun Cards Group
DESCRIPTION:
URL:https://granbycouncilonaging.org/event/fun-cards-group-13/
END:VEVENT
BEGIN:VEVENT
DTSTART;TZID=America/New_York:20230512T100000
DTEND;TZID=America/New_York:20230512T110000
DTSTAMP:20260421T150220
CREATED:20230426T175117Z
LAST-MODIFIED:20230426T175117Z
UID:931-1683885600-1683889200@granbycouncilonaging.org
SUMMARY:Easy Country Fitness
DESCRIPTION:
URL:https://granbycouncilonaging.org/event/easy-country-fitness-12/
END:VEVENT
BEGIN:VEVENT
DTSTART;TZID=America/New_York:20230511T124500
DTEND;TZID=America/New_York:20230511T150000
DTSTAMP:20260421T150220
CREATED:20230426T175721Z
LAST-MODIFIED:20230426T175721Z
UID:951-1683809100-1683817200@granbycouncilonaging.org
SUMMARY:Monthly Movie: 80 for Brady
DESCRIPTION:
URL:https://granbycouncilonaging.org/event/monthly-movie-80-for-brady/
END:VEVENT
BEGIN:VEVENT
DTSTART;TZID=America/New_York:20230511T110000
DTEND;TZID=America/New_York:20230511T120000
DTSTAMP:20260421T150220
CREATED:20230426T175643Z
LAST-MODIFIED:20230426T175643Z
UID:949-1683802800-1683806400@granbycouncilonaging.org
SUMMARY:Friends of Granby's Elderly Info Booth
DESCRIPTION:
URL:https://granbycouncilonaging.org/event/friends-of-granbys-elderly-info-booth/
END:VEVENT
BEGIN:VEVENT
DTSTART;TZID=America/New_York:20230511T100000
DTEND;TZID=America/New_York:20230511T110000
DTSTAMP:20260421T150220
CREATED:20230426T173645Z
LAST-MODIFIED:20230426T173645Z
UID:886-1683799200-1683802800@granbycouncilonaging.org
SUMMARY:Healthy Bones & Balance
DESCRIPTION:
URL:https://granbycouncilonaging.org/event/healthy-bones-balance-15/
END:VEVENT
BEGIN:VEVENT
DTSTART;TZID=America/New_York:20230510T100000
DTEND;TZID=America/New_York:20230510T110000
DTSTAMP:20260421T150220
CREATED:20230426T175553Z
LAST-MODIFIED:20230426T175553Z
UID:947-1683712800-1683716400@granbycouncilonaging.org
SUMMARY:Chair Yoga
DESCRIPTION:
URL:https://granbycouncilonaging.org/event/chair-yoga-6/
END:VEVENT
BEGIN:VEVENT
DTSTART;TZID=America/New_York:20230509T161500
DTEND;TZID=America/New_York:20230509T173000
DTSTAMP:20260421T150220
CREATED:20230426T180726Z
LAST-MODIFIED:20230426T180726Z
UID:973-1683648900-1683653400@granbycouncilonaging.org
SUMMARY:FOGE Meeting
DESCRIPTION:
URL:https://granbycouncilonaging.org/event/foge-meeting/
LOCATION:Public Safety Complex\, Granby
END:VEVENT
BEGIN:VEVENT
DTSTART;TZID=America/New_York:20230508T130000
DTEND;TZID=America/New_York:20230508T150000
DTSTAMP:20260421T150220
CREATED:20230426T174112Z
LAST-MODIFIED:20230426T174112Z
UID:906-1683550800-1683558000@granbycouncilonaging.org
SUMMARY:Stamp Collectors
DESCRIPTION:
URL:https://granbycouncilonaging.org/event/stamp-collectors-6/
END:VEVENT
BEGIN:VEVENT
DTSTART;TZID=America/New_York:20230508T130000
DTEND;TZID=America/New_York:20230508T150000
DTSTAMP:20260421T150220
CREATED:20230426T173935Z
LAST-MODIFIED:20230426T173935Z
UID:900-1683550800-1683558000@granbycouncilonaging.org
SUMMARY:Pitch
DESCRIPTION:
URL:https://granbycouncilonaging.org/event/pitch-4/
END:VEVENT
BEGIN:VEVENT
DTSTART;TZID=America/New_York:20230508T100000
DTEND;TZID=America/New_York:20230508T110000
DTSTAMP:20260421T150220
CREATED:20230426T173627Z
LAST-MODIFIED:20230426T173627Z
UID:884-1683540000-1683543600@granbycouncilonaging.org
SUMMARY:Healthy Bones & Balance
DESCRIPTION:
URL:https://granbycouncilonaging.org/event/healthy-bones-balance-14/
END:VEVENT
BEGIN:VEVENT
DTSTART;TZID=America/New_York:20230505T130000
DTEND;TZID=America/New_York:20230505T150000
DTSTAMP:20260421T150220
CREATED:20230426T175301Z
LAST-MODIFIED:20230426T175301Z
UID:939-1683291600-1683298800@granbycouncilonaging.org
SUMMARY:Fun Cards Group
DESCRIPTION:
URL:https://granbycouncilonaging.org/event/fun-cards-group-12/
END:VEVENT
BEGIN:VEVENT
DTSTART;TZID=America/New_York:20230505T100000
DTEND;TZID=America/New_York:20230505T110000
DTSTAMP:20260421T150220
CREATED:20230426T174930Z
LAST-MODIFIED:20230426T174930Z
UID:929-1683280800-1683284400@granbycouncilonaging.org
SUMMARY:Easy Country Fitness
DESCRIPTION:
URL:https://granbycouncilonaging.org/event/easy-country-fitness-11/
END:VEVENT
BEGIN:VEVENT
DTSTART;TZID=America/New_York:20230504T120000
DTEND;TZID=America/New_York:20230504T130000
DTSTAMP:20260421T150220
CREATED:20230426T174735Z
LAST-MODIFIED:20230426T174735Z
UID:924-1683201600-1683205200@granbycouncilonaging.org
SUMMARY:Senator Oliveria's Office Hour
DESCRIPTION:
URL:https://granbycouncilonaging.org/event/senator-oliverias-office-hour-2/
END:VEVENT
BEGIN:VEVENT
DTSTART;TZID=America/New_York:20230504T113000
DTEND;TZID=America/New_York:20230504T123000
DTSTAMP:20260421T150220
CREATED:20230426T174905Z
LAST-MODIFIED:20230426T174905Z
UID:926-1683199800-1683203400@granbycouncilonaging.org
SUMMARY:Lunch & Learn: Mass EDP & WestMass ElderCare
DESCRIPTION:
URL:https://granbycouncilonaging.org/event/lunch-learn-mass-edp-westmass-eldercare/
END:VEVENT
BEGIN:VEVENT
DTSTART;TZID=America/New_York:20230504T110000
DTEND;TZID=America/New_York:20230504T113000
DTSTAMP:20260421T150220
CREATED:20230426T174707Z
LAST-MODIFIED:20230426T174707Z
UID:922-1683198000-1683199800@granbycouncilonaging.org
SUMMARY:Blood Pressure Clinic
DESCRIPTION:
URL:https://granbycouncilonaging.org/event/blood-pressure-clinic-3/
END:VEVENT
BEGIN:VEVENT
DTSTART;TZID=America/New_York:20230504T100000
DTEND;TZID=America/New_York:20230504T110000
DTSTAMP:20260421T150220
CREATED:20230426T173528Z
LAST-MODIFIED:20230426T173535Z
UID:881-1683194400-1683198000@granbycouncilonaging.org
SUMMARY:Healthy Bones & Balance
DESCRIPTION:
URL:https://granbycouncilonaging.org/event/healthy-bones-balance-copy-4/
END:VEVENT
BEGIN:VEVENT
DTSTART;TZID=America/New_York:20230503T123000
DTEND;TZID=America/New_York:20230503T143000
DTSTAMP:20260421T150220
CREATED:20230426T174615Z
LAST-MODIFIED:20230426T174615Z
UID:920-1683117000-1683124200@granbycouncilonaging.org
SUMMARY:BINGO
DESCRIPTION:Cash prizes\, door prizes\, and light refreshments. 1 card for $3 or 2 for $5. Limit 4 cards per person. Please pre-register.
URL:https://granbycouncilonaging.org/event/bingo-3/
END:VEVENT
BEGIN:VEVENT
DTSTART;TZID=America/New_York:20230503T093000
DTEND;TZID=America/New_York:20230503T103000
DTSTAMP:20260421T150220
CREATED:20230426T174528Z
LAST-MODIFIED:20230426T174528Z
UID:918-1683106200-1683109800@granbycouncilonaging.org
SUMMARY:Veterans Corner
DESCRIPTION:Group led by Dave Mendoza\, our new Veterans Service Agent. Coffee & pastry provided.
URL:https://granbycouncilonaging.org/event/veterans-corner-3/
END:VEVENT
BEGIN:VEVENT
DTSTART;TZID=America/New_York:20230502T130000
DTEND;TZID=America/New_York:20230502T150000
DTSTAMP:20260421T150220
CREATED:20230426T174353Z
LAST-MODIFIED:20230426T174353Z
UID:914-1683032400-1683039600@granbycouncilonaging.org
SUMMARY:Quilting Group
DESCRIPTION:
URL:https://granbycouncilonaging.org/event/quilting-group-5/
END:VEVENT
BEGIN:VEVENT
DTSTART;TZID=America/New_York:20230501T130000
DTEND;TZID=America/New_York:20230501T150000
DTSTAMP:20260421T150220
CREATED:20230426T173910Z
LAST-MODIFIED:20230426T173910Z
UID:898-1682946000-1682953200@granbycouncilonaging.org
SUMMARY:Pitch
DESCRIPTION:
URL:https://granbycouncilonaging.org/event/pitch-3/
END:VEVENT
BEGIN:VEVENT
DTSTART;TZID=America/New_York:20230501T100000
DTEND;TZID=America/New_York:20230501T110000
DTSTAMP:20260421T150220
CREATED:20230426T173502Z
LAST-MODIFIED:20230426T173502Z
UID:879-1682935200-1682938800@granbycouncilonaging.org
SUMMARY:Healthy Bones & Balance
DESCRIPTION:
URL:https://granbycouncilonaging.org/event/healthy-bones-balance-13/
END:VEVENT
BEGIN:VEVENT
DTSTART;TZID=America/New_York:20230501T093000
DTEND;TZID=America/New_York:20230501T150000
DTSTAMP:20260421T150220
CREATED:20230426T174244Z
LAST-MODIFIED:20230426T174244Z
UID:910-1682933400-1682953200@granbycouncilonaging.org
SUMMARY:Footcare Clinic
DESCRIPTION:Call to book an appointment.
URL:https://granbycouncilonaging.org/event/footcare-clinic/
END:VEVENT
BEGIN:VEVENT
DTSTART;TZID=America/New_York:20230428T130000
DTEND;TZID=America/New_York:20230428T150000
DTSTAMP:20260421T150220
CREATED:20230329T142402Z
LAST-MODIFIED:20230329T142402Z
UID:798-1682686800-1682694000@granbycouncilonaging.org
SUMMARY:Fun Cards Group
DESCRIPTION:
URL:https://granbycouncilonaging.org/event/fun-cards-group-11/
END:VEVENT
BEGIN:VEVENT
DTSTART;TZID=America/New_York:20230428T100000
DTEND;TZID=America/New_York:20230428T110000
DTSTAMP:20260421T150220
CREATED:20230329T145620Z
LAST-MODIFIED:20230329T145626Z
UID:842-1682676000-1682679600@granbycouncilonaging.org
SUMMARY:Easy Country Fitness
DESCRIPTION:Country music lovers! Join us for this fun\, free\, beginner-friendly dance class. Meets every Friday at 10:00 a.m.
URL:https://granbycouncilonaging.org/event/easy-country-fitness-copy/
END:VEVENT
BEGIN:VEVENT
DTSTART;TZID=America/New_York:20230427T100000
DTEND;TZID=America/New_York:20230427T110000
DTSTAMP:20260421T150220
CREATED:20230329T143804Z
LAST-MODIFIED:20230329T143804Z
UID:814-1682589600-1682593200@granbycouncilonaging.org
SUMMARY:Healthy Bones & Balance
DESCRIPTION:A free\, fun way to socialize! This fitness class is designed to increase strength\, mobility\, flexibility\, and balance. Meets every Monday & Thursday from 10:00-11:00 a.m.
URL:https://granbycouncilonaging.org/event/healthy-bones-balance-12/
END:VEVENT
BEGIN:VEVENT
DTSTART;TZID=America/New_York:20230426T130000
DTEND;TZID=America/New_York:20230426T150000
DTSTAMP:20260421T150220
CREATED:20230329T163011Z
LAST-MODIFIED:20230329T163011Z
UID:874-1682514000-1682521200@granbycouncilonaging.org
SUMMARY:Cross-stitching Group
DESCRIPTION:
URL:https://granbycouncilonaging.org/event/cross-stitching-group-4/
END:VEVENT
BEGIN:VEVENT
DTSTART;TZID=America/New_York:20230426T100000
DTEND;TZID=America/New_York:20230426T110000
DTSTAMP:20260421T150220
CREATED:20230329T162942Z
LAST-MODIFIED:20230329T162942Z
UID:872-1682503200-1682506800@granbycouncilonaging.org
SUMMARY:Chair Yoga
DESCRIPTION:
URL:https://granbycouncilonaging.org/event/chair-yoga-5/
END:VEVENT
BEGIN:VEVENT
DTSTART;TZID=America/New_York:20230425T110000
DTEND;TZID=America/New_York:20230425T150000
DTSTAMP:20260421T150220
CREATED:20230329T150956Z
LAST-MODIFIED:20230329T150956Z
UID:869-1682420400-1682434800@granbycouncilonaging.org
SUMMARY:Produce Bag Pick-up
DESCRIPTION:brown bag participants only
URL:https://granbycouncilonaging.org/event/produce-bag-pick-up/
END:VEVENT
END:VCALENDAR