BEGIN:VCALENDAR
VERSION:2.0
PRODID:-//Granby Senior Center - ECPv6.15.20//NONSGML v1.0//EN
CALSCALE:GREGORIAN
METHOD:PUBLISH
X-WR-CALNAME:Granby Senior Center
X-ORIGINAL-URL:https://granbycouncilonaging.org
X-WR-CALDESC:Events for Granby Senior Center
REFRESH-INTERVAL;VALUE=DURATION:PT1H
X-Robots-Tag:noindex
X-PUBLISHED-TTL:PT1H
BEGIN:VTIMEZONE
TZID:America/New_York
BEGIN:DAYLIGHT
TZOFFSETFROM:-0500
TZOFFSETTO:-0400
TZNAME:EDT
DTSTART:20220313T070000
END:DAYLIGHT
BEGIN:STANDARD
TZOFFSETFROM:-0400
TZOFFSETTO:-0500
TZNAME:EST
DTSTART:20221106T060000
END:STANDARD
BEGIN:DAYLIGHT
TZOFFSETFROM:-0500
TZOFFSETTO:-0400
TZNAME:EDT
DTSTART:20230312T070000
END:DAYLIGHT
BEGIN:STANDARD
TZOFFSETFROM:-0400
TZOFFSETTO:-0500
TZNAME:EST
DTSTART:20231105T060000
END:STANDARD
BEGIN:DAYLIGHT
TZOFFSETFROM:-0500
TZOFFSETTO:-0400
TZNAME:EDT
DTSTART:20240310T070000
END:DAYLIGHT
BEGIN:STANDARD
TZOFFSETFROM:-0400
TZOFFSETTO:-0500
TZNAME:EST
DTSTART:20241103T060000
END:STANDARD
END:VTIMEZONE
BEGIN:VEVENT
DTSTART;TZID=America/New_York:20230410T130000
DTEND;TZID=America/New_York:20230410T150000
DTSTAMP:20260421T222320
CREATED:20230329T145701Z
LAST-MODIFIED:20230329T145701Z
UID:845-1681131600-1681138800@granbycouncilonaging.org
SUMMARY:Stamp Collectors
DESCRIPTION:
URL:https://granbycouncilonaging.org/event/stamp-collectors-4/
END:VEVENT
BEGIN:VEVENT
DTSTART;TZID=America/New_York:20230410T100000
DTEND;TZID=America/New_York:20230410T110000
DTSTAMP:20260421T222320
CREATED:20230329T143458Z
LAST-MODIFIED:20230329T143458Z
UID:804-1681120800-1681124400@granbycouncilonaging.org
SUMMARY:Healthy Bones & Balance
DESCRIPTION:A free\, fun way to socialize! This fitness class is designed to increase strength\, mobility\, flexibility\, and balance. Meets every Monday & Thursday from 10:00-11:00 a.m.
URL:https://granbycouncilonaging.org/event/healthy-bones-balance-10/
END:VEVENT
BEGIN:VEVENT
DTSTART;TZID=America/New_York:20230407T130000
DTEND;TZID=America/New_York:20230407T150000
DTSTAMP:20260421T222320
CREATED:20230329T142122Z
LAST-MODIFIED:20230329T142122Z
UID:791-1680872400-1680879600@granbycouncilonaging.org
SUMMARY:Fun Cards Group
DESCRIPTION:
URL:https://granbycouncilonaging.org/event/fun-cards-group-8/
END:VEVENT
BEGIN:VEVENT
DTSTART;TZID=America/New_York:20230407T100000
DTEND;TZID=America/New_York:20230407T110000
DTSTAMP:20260421T222320
CREATED:20230329T145457Z
LAST-MODIFIED:20230329T145457Z
UID:836-1680861600-1680865200@granbycouncilonaging.org
SUMMARY:Easy Country Fitness
DESCRIPTION:Country music lovers! Join us for this fun\, free\, beginner-friendly dance class. Meets every Friday at 10:00 a.m.
URL:https://granbycouncilonaging.org/event/easy-country-fitness-8/
END:VEVENT
BEGIN:VEVENT
DTSTART;TZID=America/New_York:20230406T120000
DTEND;TZID=America/New_York:20230406T130000
DTSTAMP:20260421T222320
CREATED:20230329T145237Z
LAST-MODIFIED:20230329T145237Z
UID:832-1680782400-1680786000@granbycouncilonaging.org
SUMMARY:Senator Oliveria's Office Hour
DESCRIPTION:
URL:https://granbycouncilonaging.org/event/senator-oliverias-office-hour/
END:VEVENT
BEGIN:VEVENT
DTSTART;TZID=America/New_York:20230406T110000
DTEND;TZID=America/New_York:20230406T113000
DTSTAMP:20260421T222320
CREATED:20230329T145200Z
LAST-MODIFIED:20230329T145200Z
UID:830-1680778800-1680780600@granbycouncilonaging.org
SUMMARY:Blood Pressure Clinic
DESCRIPTION:
URL:https://granbycouncilonaging.org/event/blood-pressure-clinic-2/
END:VEVENT
BEGIN:VEVENT
DTSTART;TZID=America/New_York:20230406T100000
DTEND;TZID=America/New_York:20230406T110000
DTSTAMP:20260421T222320
CREATED:20230329T142515Z
LAST-MODIFIED:20230329T142515Z
UID:802-1680775200-1680778800@granbycouncilonaging.org
SUMMARY:Healthy Bones & Balance - Copy
DESCRIPTION:A free\, fun way to socialize! This fitness class is designed to increase strength\, mobility\, flexibility\, and balance. Meets every Monday & Thursday from 10:00-11:00 a.m.
URL:https://granbycouncilonaging.org/event/healthy-bones-balance-copy/
END:VEVENT
BEGIN:VEVENT
DTSTART;TZID=America/New_York:20230405T123000
DTEND;TZID=America/New_York:20230405T143000
DTSTAMP:20260421T222320
CREATED:20230329T144757Z
LAST-MODIFIED:20230329T144757Z
UID:828-1680697800-1680705000@granbycouncilonaging.org
SUMMARY:BINGO
DESCRIPTION:Cash prizes\, door prizes\, and light refreshments. 1 card for $3 or 2 for $5. Limit 4 cards per person. Please pre-register.
URL:https://granbycouncilonaging.org/event/bingo-2/
END:VEVENT
BEGIN:VEVENT
DTSTART;TZID=America/New_York:20230405T093000
DTEND;TZID=America/New_York:20230405T110000
DTSTAMP:20260421T222320
CREATED:20230329T144444Z
LAST-MODIFIED:20230329T144444Z
UID:826-1680687000-1680692400@granbycouncilonaging.org
SUMMARY:Veterans Corner
DESCRIPTION:Group led by Dave Mendoza\, our new Veterans Service Agent. Coffee & pastry provided.
URL:https://granbycouncilonaging.org/event/veterans-corner-2/
END:VEVENT
BEGIN:VEVENT
DTSTART;TZID=America/New_York:20230404T130000
DTEND;TZID=America/New_York:20230404T150000
DTSTAMP:20260421T222320
CREATED:20230329T144237Z
LAST-MODIFIED:20230329T144237Z
UID:822-1680613200-1680620400@granbycouncilonaging.org
SUMMARY:Quilting Group
DESCRIPTION:
URL:https://granbycouncilonaging.org/event/quilting-group-4/
END:VEVENT
BEGIN:VEVENT
DTSTART;TZID=America/New_York:20230404T093000
DTEND;TZID=America/New_York:20230404T103000
DTSTAMP:20260421T222320
CREATED:20230329T144157Z
LAST-MODIFIED:20230329T144157Z
UID:820-1680600600-1680604200@granbycouncilonaging.org
SUMMARY:Coffee & Donuts with Granby Historical Society: Farming in Granby
DESCRIPTION:
URL:https://granbycouncilonaging.org/event/coffee-donuts-with-granby-historical-society-farming-in-granby/
END:VEVENT
BEGIN:VEVENT
DTSTART;TZID=America/New_York:20230403T130000
DTEND;TZID=America/New_York:20230403T150000
DTSTAMP:20260421T222320
CREATED:20230329T143945Z
LAST-MODIFIED:20230329T143945Z
UID:816-1680526800-1680534000@granbycouncilonaging.org
SUMMARY:Pitch
DESCRIPTION:
URL:https://granbycouncilonaging.org/event/pitch/
END:VEVENT
BEGIN:VEVENT
DTSTART;TZID=America/New_York:20230403T100000
DTEND;TZID=America/New_York:20230403T110000
DTSTAMP:20260421T222320
CREATED:20230329T142439Z
LAST-MODIFIED:20230329T142439Z
UID:800-1680516000-1680519600@granbycouncilonaging.org
SUMMARY:Healthy Bones & Balance
DESCRIPTION:A free\, fun way to socialize! This fitness class is designed to increase strength\, mobility\, flexibility\, and balance. Meets every Monday & Thursday from 10:00-11:00 a.m.
URL:https://granbycouncilonaging.org/event/healthy-bones-balance-9/
END:VEVENT
BEGIN:VEVENT
DTSTART;TZID=America/New_York:20230331T130000
DTEND;TZID=America/New_York:20230331T150000
DTSTAMP:20260421T222320
CREATED:20230217T152609Z
LAST-MODIFIED:20230217T152609Z
UID:315-1680267600-1680274800@granbycouncilonaging.org
SUMMARY:Fun Cards Group
DESCRIPTION:
URL:https://granbycouncilonaging.org/event/fun-cards-group-7/
END:VEVENT
BEGIN:VEVENT
DTSTART;TZID=America/New_York:20230331T100000
DTEND;TZID=America/New_York:20230331T110000
DTSTAMP:20260421T222320
CREATED:20230217T152536Z
LAST-MODIFIED:20230217T214357Z
UID:313-1680256800-1680260400@granbycouncilonaging.org
SUMMARY:Easy Country Fitness
DESCRIPTION:Country music lovers! Join us for this fun\, free\, beginner-friendly dance class. Meets every Friday at 10:00 a.m.
URL:https://granbycouncilonaging.org/event/easy-country-fitness-6/
END:VEVENT
BEGIN:VEVENT
DTSTART;TZID=America/New_York:20230330T100000
DTEND;TZID=America/New_York:20230330T110000
DTSTAMP:20260421T222320
CREATED:20230217T152458Z
LAST-MODIFIED:20230217T213647Z
UID:311-1680170400-1680174000@granbycouncilonaging.org
SUMMARY:Healthy Bones & Balance
DESCRIPTION:A free\, fun way to socialize! This fitness class is designed to increase strength\, mobility\, flexibility\, and balance. Meets every Monday & Thursday from 10:00-11:00 a.m.
URL:https://granbycouncilonaging.org/event/healthy-bones-balance-8/
END:VEVENT
BEGIN:VEVENT
DTSTART;TZID=America/New_York:20230328T110000
DTEND;TZID=America/New_York:20230328T150000
DTSTAMP:20260421T222320
CREATED:20230217T152424Z
LAST-MODIFIED:20230217T152424Z
UID:309-1680001200-1680015600@granbycouncilonaging.org
SUMMARY:Produce Bag Pickup (brown bag participants only)
DESCRIPTION:
URL:https://granbycouncilonaging.org/event/produce-bag-pickup-brown-bag-participants-only-2/
END:VEVENT
BEGIN:VEVENT
DTSTART;TZID=America/New_York:20230327T100000
DTEND;TZID=America/New_York:20230327T110000
DTSTAMP:20260421T222320
CREATED:20230217T152342Z
LAST-MODIFIED:20230217T213658Z
UID:307-1679911200-1679914800@granbycouncilonaging.org
SUMMARY:Healthy Bones & Balance
DESCRIPTION:A free\, fun way to socialize! This fitness class is designed to increase strength\, mobility\, flexibility\, and balance. Meets every Monday & Thursday from 10:00-11:00 a.m.
URL:https://granbycouncilonaging.org/event/healthy-bones-balance-7/
END:VEVENT
BEGIN:VEVENT
DTSTART;TZID=America/New_York:20230324T130000
DTEND;TZID=America/New_York:20230324T150000
DTSTAMP:20260421T222320
CREATED:20230217T152256Z
LAST-MODIFIED:20230217T152256Z
UID:305-1679662800-1679670000@granbycouncilonaging.org
SUMMARY:Fun Cards Group
DESCRIPTION:
URL:https://granbycouncilonaging.org/event/fun-cards-group-6/
END:VEVENT
BEGIN:VEVENT
DTSTART;TZID=America/New_York:20230324T100000
DTEND;TZID=America/New_York:20230324T110000
DTSTAMP:20260421T222320
CREATED:20230217T152229Z
LAST-MODIFIED:20230217T214407Z
UID:303-1679652000-1679655600@granbycouncilonaging.org
SUMMARY:Easy Country Fitness
DESCRIPTION:Country music lovers! Join us for this fun\, free\, beginner-friendly dance class. Meets every Friday at 10:00 a.m.
URL:https://granbycouncilonaging.org/event/easy-country-fitness-5/
END:VEVENT
BEGIN:VEVENT
DTSTART;TZID=America/New_York:20230323T100000
DTEND;TZID=America/New_York:20230323T110000
DTSTAMP:20260421T222320
CREATED:20230217T135658Z
LAST-MODIFIED:20230217T213710Z
UID:282-1679565600-1679569200@granbycouncilonaging.org
SUMMARY:Healthy Bones & Balance
DESCRIPTION:A free\, fun way to socialize! This fitness class is designed to increase strength\, mobility\, flexibility\, and balance. Meets every Monday & Thursday from 10:00-11:00 a.m.
URL:https://granbycouncilonaging.org/event/healthy-bones-balance-6/
END:VEVENT
BEGIN:VEVENT
DTSTART;TZID=America/New_York:20230322T130000
DTEND;TZID=America/New_York:20230322T150000
DTSTAMP:20260421T222320
CREATED:20230217T135623Z
LAST-MODIFIED:20230217T135623Z
UID:280-1679490000-1679497200@granbycouncilonaging.org
SUMMARY:Cross-Stitching Group
DESCRIPTION:
URL:https://granbycouncilonaging.org/event/cross-stitching-group-3/
END:VEVENT
BEGIN:VEVENT
DTSTART;TZID=America/New_York:20230322T100000
DTEND;TZID=America/New_York:20230322T110000
DTSTAMP:20260421T222320
CREATED:20230217T135542Z
LAST-MODIFIED:20230217T214606Z
UID:278-1679479200-1679482800@granbycouncilonaging.org
SUMMARY:Chair Yoga
DESCRIPTION:A modified type of yoga using a chair replicating most yoga poses and stretches. This makes it suitable for all levels of fitness. Enjoy the benefits of yoga without leaving your chair! Every 2nd and 4th Wednesday at 10 a.m. with certified yoga teacher Laurie Cameron.
URL:https://granbycouncilonaging.org/event/chair-yoga-3/
END:VEVENT
BEGIN:VEVENT
DTSTART;TZID=America/New_York:20230321T130000
DTEND;TZID=America/New_York:20230321T140000
DTSTAMP:20260421T222320
CREATED:20230217T135459Z
LAST-MODIFIED:20230217T135459Z
UID:276-1679403600-1679407200@granbycouncilonaging.org
SUMMARY:Quilting Group
DESCRIPTION:
URL:https://granbycouncilonaging.org/event/quilting-group-3/
END:VEVENT
BEGIN:VEVENT
DTSTART;TZID=America/New_York:20230321T110000
DTEND;TZID=America/New_York:20230321T150000
DTSTAMP:20260421T222320
CREATED:20230217T135424Z
LAST-MODIFIED:20230217T135424Z
UID:274-1679396400-1679410800@granbycouncilonaging.org
SUMMARY:Brown Bag Pickup
DESCRIPTION:
URL:https://granbycouncilonaging.org/event/brown-bag-pickup-2/
END:VEVENT
BEGIN:VEVENT
DTSTART;TZID=America/New_York:20230320T100000
DTEND;TZID=America/New_York:20230320T110000
DTSTAMP:20260421T222320
CREATED:20230217T135238Z
LAST-MODIFIED:20230217T213722Z
UID:270-1679306400-1679310000@granbycouncilonaging.org
SUMMARY:Healthy Bones & Balance
DESCRIPTION:A free\, fun way to socialize! This fitness class is designed to increase strength\, mobility\, flexibility\, and balance. Meets every Monday & Thursday from 10:00-11:00 a.m.
URL:https://granbycouncilonaging.org/event/healthy-bones-balance-5/
END:VEVENT
BEGIN:VEVENT
DTSTART;TZID=America/New_York:20230317T130000
DTEND;TZID=America/New_York:20230317T150000
DTSTAMP:20260421T222320
CREATED:20230217T135201Z
LAST-MODIFIED:20230217T135201Z
UID:268-1679058000-1679065200@granbycouncilonaging.org
SUMMARY:Fun Cards Group
DESCRIPTION:
URL:https://granbycouncilonaging.org/event/fun-cards-group-5/
END:VEVENT
BEGIN:VEVENT
DTSTART;TZID=America/New_York:20230317T100000
DTEND;TZID=America/New_York:20230317T110000
DTSTAMP:20260421T222320
CREATED:20230217T135126Z
LAST-MODIFIED:20230217T214419Z
UID:266-1679047200-1679050800@granbycouncilonaging.org
SUMMARY:Easy Country Fitness
DESCRIPTION:Country music lovers! Join us for this fun\, free\, beginner-friendly dance class. Meets every Friday at 10:00 a.m.
URL:https://granbycouncilonaging.org/event/easy-country-fitness-4/
END:VEVENT
BEGIN:VEVENT
DTSTART;TZID=America/New_York:20230316T100000
DTEND;TZID=America/New_York:20230316T110000
DTSTAMP:20260421T222320
CREATED:20230217T135008Z
LAST-MODIFIED:20230217T214302Z
UID:264-1678960800-1678964400@granbycouncilonaging.org
SUMMARY:Healthy Bones & Balance
DESCRIPTION:A free\, fun way to socialize! This fitness class is designed to increase strength\, mobility\, flexibility\, and balance. Meets every Monday & Thursday from 10:00-11:00 a.m.
URL:https://granbycouncilonaging.org/event/healthy-bones-balance-4/
END:VEVENT
BEGIN:VEVENT
DTSTART;TZID=America/New_York:20230314T161500
DTEND;TZID=America/New_York:20230314T171500
DTSTAMP:20260421T222320
CREATED:20230217T134937Z
LAST-MODIFIED:20230217T134937Z
UID:260-1678810500-1678814100@granbycouncilonaging.org
SUMMARY:Friends of Granby's Elderly Meeting
DESCRIPTION:
URL:https://granbycouncilonaging.org/event/friends-of-granbys-elderly-meeting/
LOCATION:Public Safety Complex\, Granby
END:VEVENT
END:VCALENDAR