BEGIN:VCALENDAR
VERSION:2.0
PRODID:-//Granby Senior Center - ECPv6.15.20//NONSGML v1.0//EN
CALSCALE:GREGORIAN
METHOD:PUBLISH
X-WR-CALNAME:Granby Senior Center
X-ORIGINAL-URL:https://granbycouncilonaging.org
X-WR-CALDESC:Events for Granby Senior Center
REFRESH-INTERVAL;VALUE=DURATION:PT1H
X-Robots-Tag:noindex
X-PUBLISHED-TTL:PT1H
BEGIN:VTIMEZONE
TZID:America/New_York
BEGIN:DAYLIGHT
TZOFFSETFROM:-0500
TZOFFSETTO:-0400
TZNAME:EDT
DTSTART:20220313T070000
END:DAYLIGHT
BEGIN:STANDARD
TZOFFSETFROM:-0400
TZOFFSETTO:-0500
TZNAME:EST
DTSTART:20221106T060000
END:STANDARD
BEGIN:DAYLIGHT
TZOFFSETFROM:-0500
TZOFFSETTO:-0400
TZNAME:EDT
DTSTART:20230312T070000
END:DAYLIGHT
BEGIN:STANDARD
TZOFFSETFROM:-0400
TZOFFSETTO:-0500
TZNAME:EST
DTSTART:20231105T060000
END:STANDARD
BEGIN:DAYLIGHT
TZOFFSETFROM:-0500
TZOFFSETTO:-0400
TZNAME:EDT
DTSTART:20240310T070000
END:DAYLIGHT
BEGIN:STANDARD
TZOFFSETFROM:-0400
TZOFFSETTO:-0500
TZNAME:EST
DTSTART:20241103T060000
END:STANDARD
END:VTIMEZONE
BEGIN:VEVENT
DTSTART;TZID=America/New_York:20230323T100000
DTEND;TZID=America/New_York:20230323T110000
DTSTAMP:20260422T011436
CREATED:20230217T135658Z
LAST-MODIFIED:20230217T213710Z
UID:282-1679565600-1679569200@granbycouncilonaging.org
SUMMARY:Healthy Bones & Balance
DESCRIPTION:A free\, fun way to socialize! This fitness class is designed to increase strength\, mobility\, flexibility\, and balance. Meets every Monday & Thursday from 10:00-11:00 a.m.
URL:https://granbycouncilonaging.org/event/healthy-bones-balance-6/
END:VEVENT
BEGIN:VEVENT
DTSTART;TZID=America/New_York:20230322T130000
DTEND;TZID=America/New_York:20230322T150000
DTSTAMP:20260422T011436
CREATED:20230217T135623Z
LAST-MODIFIED:20230217T135623Z
UID:280-1679490000-1679497200@granbycouncilonaging.org
SUMMARY:Cross-Stitching Group
DESCRIPTION:
URL:https://granbycouncilonaging.org/event/cross-stitching-group-3/
END:VEVENT
BEGIN:VEVENT
DTSTART;TZID=America/New_York:20230322T100000
DTEND;TZID=America/New_York:20230322T110000
DTSTAMP:20260422T011436
CREATED:20230217T135542Z
LAST-MODIFIED:20230217T214606Z
UID:278-1679479200-1679482800@granbycouncilonaging.org
SUMMARY:Chair Yoga
DESCRIPTION:A modified type of yoga using a chair replicating most yoga poses and stretches. This makes it suitable for all levels of fitness. Enjoy the benefits of yoga without leaving your chair! Every 2nd and 4th Wednesday at 10 a.m. with certified yoga teacher Laurie Cameron.
URL:https://granbycouncilonaging.org/event/chair-yoga-3/
END:VEVENT
BEGIN:VEVENT
DTSTART;TZID=America/New_York:20230321T130000
DTEND;TZID=America/New_York:20230321T140000
DTSTAMP:20260422T011436
CREATED:20230217T135459Z
LAST-MODIFIED:20230217T135459Z
UID:276-1679403600-1679407200@granbycouncilonaging.org
SUMMARY:Quilting Group
DESCRIPTION:
URL:https://granbycouncilonaging.org/event/quilting-group-3/
END:VEVENT
BEGIN:VEVENT
DTSTART;TZID=America/New_York:20230321T110000
DTEND;TZID=America/New_York:20230321T150000
DTSTAMP:20260422T011436
CREATED:20230217T135424Z
LAST-MODIFIED:20230217T135424Z
UID:274-1679396400-1679410800@granbycouncilonaging.org
SUMMARY:Brown Bag Pickup
DESCRIPTION:
URL:https://granbycouncilonaging.org/event/brown-bag-pickup-2/
END:VEVENT
BEGIN:VEVENT
DTSTART;TZID=America/New_York:20230320T100000
DTEND;TZID=America/New_York:20230320T110000
DTSTAMP:20260422T011436
CREATED:20230217T135238Z
LAST-MODIFIED:20230217T213722Z
UID:270-1679306400-1679310000@granbycouncilonaging.org
SUMMARY:Healthy Bones & Balance
DESCRIPTION:A free\, fun way to socialize! This fitness class is designed to increase strength\, mobility\, flexibility\, and balance. Meets every Monday & Thursday from 10:00-11:00 a.m.
URL:https://granbycouncilonaging.org/event/healthy-bones-balance-5/
END:VEVENT
BEGIN:VEVENT
DTSTART;TZID=America/New_York:20230317T130000
DTEND;TZID=America/New_York:20230317T150000
DTSTAMP:20260422T011436
CREATED:20230217T135201Z
LAST-MODIFIED:20230217T135201Z
UID:268-1679058000-1679065200@granbycouncilonaging.org
SUMMARY:Fun Cards Group
DESCRIPTION:
URL:https://granbycouncilonaging.org/event/fun-cards-group-5/
END:VEVENT
BEGIN:VEVENT
DTSTART;TZID=America/New_York:20230317T100000
DTEND;TZID=America/New_York:20230317T110000
DTSTAMP:20260422T011436
CREATED:20230217T135126Z
LAST-MODIFIED:20230217T214419Z
UID:266-1679047200-1679050800@granbycouncilonaging.org
SUMMARY:Easy Country Fitness
DESCRIPTION:Country music lovers! Join us for this fun\, free\, beginner-friendly dance class. Meets every Friday at 10:00 a.m.
URL:https://granbycouncilonaging.org/event/easy-country-fitness-4/
END:VEVENT
BEGIN:VEVENT
DTSTART;TZID=America/New_York:20230316T100000
DTEND;TZID=America/New_York:20230316T110000
DTSTAMP:20260422T011436
CREATED:20230217T135008Z
LAST-MODIFIED:20230217T214302Z
UID:264-1678960800-1678964400@granbycouncilonaging.org
SUMMARY:Healthy Bones & Balance
DESCRIPTION:A free\, fun way to socialize! This fitness class is designed to increase strength\, mobility\, flexibility\, and balance. Meets every Monday & Thursday from 10:00-11:00 a.m.
URL:https://granbycouncilonaging.org/event/healthy-bones-balance-4/
END:VEVENT
BEGIN:VEVENT
DTSTART;TZID=America/New_York:20230314T161500
DTEND;TZID=America/New_York:20230314T171500
DTSTAMP:20260422T011436
CREATED:20230217T134937Z
LAST-MODIFIED:20230217T134937Z
UID:260-1678810500-1678814100@granbycouncilonaging.org
SUMMARY:Friends of Granby's Elderly Meeting
DESCRIPTION:
URL:https://granbycouncilonaging.org/event/friends-of-granbys-elderly-meeting/
LOCATION:Public Safety Complex\, Granby
END:VEVENT
BEGIN:VEVENT
DTSTART;TZID=America/New_York:20230313T100000
DTEND;TZID=America/New_York:20230313T110000
DTSTAMP:20260422T011436
CREATED:20230217T134811Z
LAST-MODIFIED:20230217T213734Z
UID:258-1678701600-1678705200@granbycouncilonaging.org
SUMMARY:Healthy Bones & Balance
DESCRIPTION:A free\, fun way to socialize! This fitness class is designed to increase strength\, mobility\, flexibility\, and balance. Meets every Monday & Thursday from 10:00-11:00 a.m.
URL:https://granbycouncilonaging.org/event/healthy-bones-balance-3/
END:VEVENT
BEGIN:VEVENT
DTSTART;TZID=America/New_York:20230310T130000
DTEND;TZID=America/New_York:20230310T150000
DTSTAMP:20260422T011436
CREATED:20230217T134737Z
LAST-MODIFIED:20230217T151818Z
UID:256-1678453200-1678460400@granbycouncilonaging.org
SUMMARY:Fun Cards Group
DESCRIPTION:
URL:https://granbycouncilonaging.org/event/fun-cards-group-4/
END:VEVENT
BEGIN:VEVENT
DTSTART;TZID=America/New_York:20230310T100000
DTEND;TZID=America/New_York:20230310T110000
DTSTAMP:20260422T011436
CREATED:20230329T145406Z
LAST-MODIFIED:20230329T145406Z
UID:834-1678442400-1678446000@granbycouncilonaging.org
SUMMARY:Easy Country Fitness
DESCRIPTION:Country music lovers~ Join us for this free\, fun\, beginner-friendly dance class!
URL:https://granbycouncilonaging.org/event/easy-country-fitness-7/
END:VEVENT
BEGIN:VEVENT
DTSTART;TZID=America/New_York:20230310T100000
DTEND;TZID=America/New_York:20230310T110000
DTSTAMP:20260422T011436
CREATED:20230217T133743Z
LAST-MODIFIED:20230217T214438Z
UID:239-1678442400-1678446000@granbycouncilonaging.org
SUMMARY:Easy Country Fitness
DESCRIPTION:Country music lovers! Join us for this fun\, free\, beginner-friendly dance class. Meets every Friday at 10:00 a.m.
URL:https://granbycouncilonaging.org/event/easy-country-fitness-3/
END:VEVENT
BEGIN:VEVENT
DTSTART;TZID=America/New_York:20230309T100000
DTEND;TZID=America/New_York:20230309T110000
DTSTAMP:20260422T011436
CREATED:20230217T133055Z
LAST-MODIFIED:20230217T214118Z
UID:237-1678356000-1678359600@granbycouncilonaging.org
SUMMARY:Healthy Bones & Balance
DESCRIPTION:A free\, fun way to socialize! This fitness class is designed to increase strength\, mobility\, flexibility\, and balance. Meets every Monday & Thursday from 10:00-11:00 a.m.
URL:https://granbycouncilonaging.org/event/healthy-bones-balance-2/
END:VEVENT
BEGIN:VEVENT
DTSTART;TZID=America/New_York:20230308T130000
DTEND;TZID=America/New_York:20230308T150000
DTSTAMP:20260422T011436
CREATED:20230217T133001Z
LAST-MODIFIED:20230217T133001Z
UID:235-1678280400-1678287600@granbycouncilonaging.org
SUMMARY:Cross-Stitching Group
DESCRIPTION:
URL:https://granbycouncilonaging.org/event/cross-stitching-group-2/
END:VEVENT
BEGIN:VEVENT
DTSTART;TZID=America/New_York:20230308T100000
DTEND;TZID=America/New_York:20230308T110000
DTSTAMP:20260422T011436
CREATED:20230217T132904Z
LAST-MODIFIED:20230217T214706Z
UID:233-1678269600-1678273200@granbycouncilonaging.org
SUMMARY:Chair Yoga
DESCRIPTION:A modified type of yoga using a chair replicating most yoga poses and stretches. This makes it suitable for all levels of fitness. Enjoy the benefits of yoga without leaving your chair! Every 2nd and 4th Wednesday at 10 a.m. with certified yoga teacher Laurie Cameron. $3
URL:https://granbycouncilonaging.org/event/chair-yoga-2/
END:VEVENT
BEGIN:VEVENT
DTSTART;TZID=America/New_York:20230307T130000
DTEND;TZID=America/New_York:20230307T140000
DTSTAMP:20260422T011436
CREATED:20230217T132759Z
LAST-MODIFIED:20230217T132759Z
UID:231-1678194000-1678197600@granbycouncilonaging.org
SUMMARY:Quilting Group
DESCRIPTION:
URL:https://granbycouncilonaging.org/event/quilting-group-2/
END:VEVENT
BEGIN:VEVENT
DTSTART;TZID=America/New_York:20230306T130000
DTEND;TZID=America/New_York:20230306T140000
DTSTAMP:20260422T011436
CREATED:20230217T132729Z
LAST-MODIFIED:20230217T132729Z
UID:229-1678107600-1678111200@granbycouncilonaging.org
SUMMARY:Stamp Collectors
DESCRIPTION:
URL:https://granbycouncilonaging.org/event/stamp-collectors-2/
END:VEVENT
BEGIN:VEVENT
DTSTART;TZID=America/New_York:20230306T100000
DTEND;TZID=America/New_York:20230306T110000
DTSTAMP:20260422T011436
CREATED:20230217T132655Z
LAST-MODIFIED:20230217T213821Z
UID:227-1678096800-1678100400@granbycouncilonaging.org
SUMMARY:Healthy Bones & Balance
DESCRIPTION:A free\, fun way to socialize! This fitness class is designed to increase strength\, mobility\, flexibility\, and balance. Meets every Monday & Thursday from 10:00-11:00 a.m.
URL:https://granbycouncilonaging.org/event/healthy-bones-balance/
END:VEVENT
BEGIN:VEVENT
DTSTART;TZID=America/New_York:20230303T130000
DTEND;TZID=America/New_York:20230303T150000
DTSTAMP:20260422T011436
CREATED:20230217T132621Z
LAST-MODIFIED:20230217T132621Z
UID:225-1677848400-1677855600@granbycouncilonaging.org
SUMMARY:Fun Cards Group
DESCRIPTION:
URL:https://granbycouncilonaging.org/event/fun-cards-group-3/
END:VEVENT
BEGIN:VEVENT
DTSTART;TZID=America/New_York:20230303T100000
DTEND;TZID=America/New_York:20230303T110000
DTSTAMP:20260422T011436
CREATED:20230217T132555Z
LAST-MODIFIED:20230217T214453Z
UID:223-1677837600-1677841200@granbycouncilonaging.org
SUMMARY:Easy Country Fitness
DESCRIPTION:Country music lovers! Join us for this fun\, free\, beginner-friendly dance class. Meets every Friday at 10:00 a.m.
URL:https://granbycouncilonaging.org/event/easy-country-fitness-2/
END:VEVENT
BEGIN:VEVENT
DTSTART;TZID=America/New_York:20230302T110000
DTEND;TZID=America/New_York:20230302T113000
DTSTAMP:20260422T011436
CREATED:20230217T132523Z
LAST-MODIFIED:20230217T214753Z
UID:221-1677754800-1677756600@granbycouncilonaging.org
SUMMARY:Blood Pressure Clinic
DESCRIPTION:Blood Pressure Clinics are free and walk-in friendly\, and are held on the first Thursday of each month at 11:30 a.m. They are facilitated by our wonderful volunteers\, retired EMT’s Linda and Chuck Hallowell.
URL:https://granbycouncilonaging.org/event/blood-pressure-clinic/
END:VEVENT
BEGIN:VEVENT
DTSTART;TZID=America/New_York:20230302T100000
DTEND;TZID=America/New_York:20230302T110000
DTSTAMP:20260422T011436
CREATED:20230217T132452Z
LAST-MODIFIED:20230217T214225Z
UID:219-1677751200-1677754800@granbycouncilonaging.org
SUMMARY:Healthy Bones and Balance
DESCRIPTION:A free\, fun way to socialize! This fitness class is designed to increase strength\, mobility\, flexibility\, and balance. Meets every Monday & Thursday from 10:00-11:00 a.m.
URL:https://granbycouncilonaging.org/event/healthy-bone-and-balance/
END:VEVENT
BEGIN:VEVENT
DTSTART;TZID=America/New_York:20230301T123000
DTEND;TZID=America/New_York:20230301T140000
DTSTAMP:20260422T011436
CREATED:20230217T132419Z
LAST-MODIFIED:20230217T132419Z
UID:217-1677673800-1677679200@granbycouncilonaging.org
SUMMARY:Bingo
DESCRIPTION:
URL:https://granbycouncilonaging.org/event/bingo/
END:VEVENT
BEGIN:VEVENT
DTSTART;TZID=America/New_York:20230301T100000
DTEND;TZID=America/New_York:20230301T110000
DTSTAMP:20260422T011436
CREATED:20230217T132355Z
LAST-MODIFIED:20230217T132355Z
UID:215-1677664800-1677668400@granbycouncilonaging.org
SUMMARY:Veteran's Corner
DESCRIPTION:
URL:https://granbycouncilonaging.org/event/veterans-corner/
END:VEVENT
BEGIN:VEVENT
DTSTART;TZID=America/New_York:20230228T110000
DTEND;TZID=America/New_York:20230228T150000
DTSTAMP:20260422T011436
CREATED:20230217T132302Z
LAST-MODIFIED:20230217T132302Z
UID:213-1677582000-1677596400@granbycouncilonaging.org
SUMMARY:Produce Bag Pickup (brown bag participants only)
DESCRIPTION:
URL:https://granbycouncilonaging.org/event/produce-bag-pickup-brown-bag-participants-only/
END:VEVENT
BEGIN:VEVENT
DTSTART;TZID=America/New_York:20230227T130000
DTEND;TZID=America/New_York:20230227T140000
DTSTAMP:20260422T011436
CREATED:20230217T124621Z
LAST-MODIFIED:20230217T124621Z
UID:202-1677502800-1677506400@granbycouncilonaging.org
SUMMARY:Health New England Info Session
DESCRIPTION:
URL:https://granbycouncilonaging.org/event/health-new-england-info-session/
END:VEVENT
BEGIN:VEVENT
DTSTART;TZID=America/New_York:20230227T100000
DTEND;TZID=America/New_York:20230227T110000
DTSTAMP:20260422T011436
CREATED:20230217T124545Z
LAST-MODIFIED:20230217T213850Z
UID:200-1677492000-1677495600@granbycouncilonaging.org
SUMMARY:Healthy Bones & Balance
DESCRIPTION:A free\, fun way to socialize! This fitness class is designed to increase strength\, mobility\, flexibility\, and balance. Meets every Monday & Thursday from 10:00-11:00 a.m.
URL:https://granbycouncilonaging.org/event/healthy-bones-and-balance-3/
END:VEVENT
BEGIN:VEVENT
DTSTART;TZID=America/New_York:20230224T130000
DTEND;TZID=America/New_York:20230224T150000
DTSTAMP:20260422T011436
CREATED:20230217T124504Z
LAST-MODIFIED:20230217T124504Z
UID:198-1677243600-1677250800@granbycouncilonaging.org
SUMMARY:Fun Cards Group
DESCRIPTION:
URL:https://granbycouncilonaging.org/event/fun-cards-group-2/
END:VEVENT
END:VCALENDAR