BEGIN:VCALENDAR
VERSION:2.0
PRODID:-//Granby Senior Center - ECPv6.15.20//NONSGML v1.0//EN
CALSCALE:GREGORIAN
METHOD:PUBLISH
X-WR-CALNAME:Granby Senior Center
X-ORIGINAL-URL:https://granbycouncilonaging.org
X-WR-CALDESC:Events for Granby Senior Center
REFRESH-INTERVAL;VALUE=DURATION:PT1H
X-Robots-Tag:noindex
X-PUBLISHED-TTL:PT1H
BEGIN:VTIMEZONE
TZID:America/New_York
BEGIN:DAYLIGHT
TZOFFSETFROM:-0500
TZOFFSETTO:-0400
TZNAME:EDT
DTSTART:20220313T070000
END:DAYLIGHT
BEGIN:STANDARD
TZOFFSETFROM:-0400
TZOFFSETTO:-0500
TZNAME:EST
DTSTART:20221106T060000
END:STANDARD
BEGIN:DAYLIGHT
TZOFFSETFROM:-0500
TZOFFSETTO:-0400
TZNAME:EDT
DTSTART:20230312T070000
END:DAYLIGHT
BEGIN:STANDARD
TZOFFSETFROM:-0400
TZOFFSETTO:-0500
TZNAME:EST
DTSTART:20231105T060000
END:STANDARD
BEGIN:DAYLIGHT
TZOFFSETFROM:-0500
TZOFFSETTO:-0400
TZNAME:EDT
DTSTART:20240310T070000
END:DAYLIGHT
BEGIN:STANDARD
TZOFFSETFROM:-0400
TZOFFSETTO:-0500
TZNAME:EST
DTSTART:20241103T060000
END:STANDARD
END:VTIMEZONE
BEGIN:VEVENT
DTSTART;TZID=America/New_York:20230809T100000
DTEND;TZID=America/New_York:20230809T110000
DTSTAMP:20260423T043402
CREATED:20230730T145032Z
LAST-MODIFIED:20230730T145032Z
UID:1188-1691575200-1691578800@granbycouncilonaging.org
SUMMARY:Chair Yoga
DESCRIPTION:
URL:https://granbycouncilonaging.org/event/chair-yoga-8/
END:VEVENT
BEGIN:VEVENT
DTSTART;TZID=America/New_York:20230808T161500
DTEND;TZID=America/New_York:20230808T171500
DTSTAMP:20260423T043402
CREATED:20230730T145008Z
LAST-MODIFIED:20230730T145008Z
UID:1186-1691511300-1691514900@granbycouncilonaging.org
SUMMARY:FOGE Meeting
DESCRIPTION:
URL:https://granbycouncilonaging.org/event/foge-meeting-2/
LOCATION:Public Safety Complex\, Granby
END:VEVENT
BEGIN:VEVENT
DTSTART;TZID=America/New_York:20230808T110000
DTEND;TZID=America/New_York:20230808T120000
DTSTAMP:20260423T043402
CREATED:20230730T144915Z
LAST-MODIFIED:20230730T144915Z
UID:1184-1691492400-1691496000@granbycouncilonaging.org
SUMMARY:Lunch Out: Schermerhorn's
DESCRIPTION:
URL:https://granbycouncilonaging.org/event/lunch-out-schermerhorns/
END:VEVENT
BEGIN:VEVENT
DTSTART;TZID=America/New_York:20230807T130000
DTEND;TZID=America/New_York:20230807T140000
DTSTAMP:20260423T043402
CREATED:20230730T144826Z
LAST-MODIFIED:20230730T144826Z
UID:1182-1691413200-1691416800@granbycouncilonaging.org
SUMMARY:Pitch
DESCRIPTION:
URL:https://granbycouncilonaging.org/event/pitch-10/
END:VEVENT
BEGIN:VEVENT
DTSTART;TZID=America/New_York:20230807T130000
DTEND;TZID=America/New_York:20230807T140000
DTSTAMP:20260423T043402
CREATED:20230730T144802Z
LAST-MODIFIED:20230730T144802Z
UID:1180-1691413200-1691416800@granbycouncilonaging.org
SUMMARY:Stamp Collectors
DESCRIPTION:
URL:https://granbycouncilonaging.org/event/stamp-collectors-9/
END:VEVENT
BEGIN:VEVENT
DTSTART;TZID=America/New_York:20230807T100000
DTEND;TZID=America/New_York:20230807T110000
DTSTAMP:20260423T043402
CREATED:20230730T144732Z
LAST-MODIFIED:20230730T144732Z
UID:1178-1691402400-1691406000@granbycouncilonaging.org
SUMMARY:Healthy Bones and Balance
DESCRIPTION:
URL:https://granbycouncilonaging.org/event/healthy-bones-and-balance-9/
END:VEVENT
BEGIN:VEVENT
DTSTART;TZID=America/New_York:20230804T130000
DTEND;TZID=America/New_York:20230804T140000
DTSTAMP:20260423T043402
CREATED:20230730T144639Z
LAST-MODIFIED:20230730T144654Z
UID:1175-1691154000-1691157600@granbycouncilonaging.org
SUMMARY:Fun Cards Group
DESCRIPTION:
URL:https://granbycouncilonaging.org/event/fun-cards/
END:VEVENT
BEGIN:VEVENT
DTSTART;TZID=America/New_York:20230804T100000
DTEND;TZID=America/New_York:20230804T110000
DTSTAMP:20260423T043402
CREATED:20230730T144613Z
LAST-MODIFIED:20230730T144613Z
UID:1173-1691143200-1691146800@granbycouncilonaging.org
SUMMARY:Easy Country Fitness
DESCRIPTION:
URL:https://granbycouncilonaging.org/event/easy-country-fitness-21/
END:VEVENT
BEGIN:VEVENT
DTSTART;TZID=America/New_York:20230803T120000
DTEND;TZID=America/New_York:20230803T130000
DTSTAMP:20260423T043402
CREATED:20230730T144528Z
LAST-MODIFIED:20230730T144528Z
UID:1171-1691064000-1691067600@granbycouncilonaging.org
SUMMARY:Senator Oliveria's Office Hours
DESCRIPTION:
URL:https://granbycouncilonaging.org/event/senator-oliverias-office-hours/
END:VEVENT
BEGIN:VEVENT
DTSTART;TZID=America/New_York:20230803T110000
DTEND;TZID=America/New_York:20230803T120000
DTSTAMP:20260423T043402
CREATED:20230730T144448Z
LAST-MODIFIED:20230730T144448Z
UID:1169-1691060400-1691064000@granbycouncilonaging.org
SUMMARY:BP Clinic
DESCRIPTION:
URL:https://granbycouncilonaging.org/event/bp-clinic/
END:VEVENT
BEGIN:VEVENT
DTSTART;TZID=America/New_York:20230803T100000
DTEND;TZID=America/New_York:20230803T110000
DTSTAMP:20260423T043402
CREATED:20230730T144205Z
LAST-MODIFIED:20230730T144205Z
UID:1159-1691056800-1691060400@granbycouncilonaging.org
SUMMARY:Healthy Bones and Balance
DESCRIPTION:
URL:https://granbycouncilonaging.org/event/healthy-bones-and-balance-4/
END:VEVENT
BEGIN:VEVENT
DTSTART;TZID=America/New_York:20230802T123000
DTEND;TZID=America/New_York:20230802T143000
DTSTAMP:20260423T043402
CREATED:20230730T144126Z
LAST-MODIFIED:20230730T144126Z
UID:1157-1690979400-1690986600@granbycouncilonaging.org
SUMMARY:BINGO
DESCRIPTION:
URL:https://granbycouncilonaging.org/event/bingo-5/
END:VEVENT
BEGIN:VEVENT
DTSTART;TZID=America/New_York:20230802T093000
DTEND;TZID=America/New_York:20230802T103000
DTSTAMP:20260423T043402
CREATED:20230730T144049Z
LAST-MODIFIED:20230730T144049Z
UID:1155-1690968600-1690972200@granbycouncilonaging.org
SUMMARY:Veteran's Corner
DESCRIPTION:
URL:https://granbycouncilonaging.org/event/veterans-corner-5/
END:VEVENT
BEGIN:VEVENT
DTSTART;TZID=America/New_York:20230801T130000
DTEND;TZID=America/New_York:20230801T140000
DTSTAMP:20260423T043402
CREATED:20230730T143845Z
LAST-MODIFIED:20230730T143845Z
UID:1151-1690894800-1690898400@granbycouncilonaging.org
SUMMARY:Quilting Group
DESCRIPTION:
URL:https://granbycouncilonaging.org/event/quilting-group-10/
END:VEVENT
BEGIN:VEVENT
DTSTART;TZID=America/New_York:20230630T130000
DTEND;TZID=America/New_York:20230630T150000
DTSTAMP:20260423T043402
CREATED:20230523T162134Z
LAST-MODIFIED:20230523T162134Z
UID:1025-1688130000-1688137200@granbycouncilonaging.org
SUMMARY:Fun Cards Group
DESCRIPTION:
URL:https://granbycouncilonaging.org/event/fun-cards-group-19/
END:VEVENT
BEGIN:VEVENT
DTSTART;TZID=America/New_York:20230630T100000
DTEND;TZID=America/New_York:20230630T110000
DTSTAMP:20260423T043402
CREATED:20230523T161920Z
LAST-MODIFIED:20230523T161920Z
UID:1017-1688119200-1688122800@granbycouncilonaging.org
SUMMARY:Easy Country Fitness
DESCRIPTION:
URL:https://granbycouncilonaging.org/event/easy-country-fitness-20/
END:VEVENT
BEGIN:VEVENT
DTSTART;TZID=America/New_York:20230629T100000
DTEND;TZID=America/New_York:20230629T110000
DTSTAMP:20260423T043402
CREATED:20230523T155946Z
LAST-MODIFIED:20230523T155946Z
UID:1001-1688032800-1688036400@granbycouncilonaging.org
SUMMARY:Healthy Bones & Balance
DESCRIPTION:
URL:https://granbycouncilonaging.org/event/healthy-bones-balance-29/
END:VEVENT
BEGIN:VEVENT
DTSTART;TZID=America/New_York:20230628T130000
DTEND;TZID=America/New_York:20230628T150000
DTSTAMP:20260423T043402
CREATED:20230523T163405Z
LAST-MODIFIED:20230523T163405Z
UID:1045-1687957200-1687964400@granbycouncilonaging.org
SUMMARY:Cross-stitching Group
DESCRIPTION:
URL:https://granbycouncilonaging.org/event/cross-stitching-group-7/
END:VEVENT
BEGIN:VEVENT
DTSTART;TZID=America/New_York:20230628T100000
DTEND;TZID=America/New_York:20230628T110000
DTSTAMP:20260423T043402
CREATED:20230523T153437Z
LAST-MODIFIED:20230523T153437Z
UID:983-1687946400-1687950000@granbycouncilonaging.org
SUMMARY:Chair Yoga - Copy
DESCRIPTION:
URL:https://granbycouncilonaging.org/event/chair-yoga-copy/
END:VEVENT
BEGIN:VEVENT
DTSTART;TZID=America/New_York:20230627T110000
DTEND;TZID=America/New_York:20230627T150000
DTSTAMP:20260423T043402
CREATED:20230523T164128Z
LAST-MODIFIED:20230523T164128Z
UID:1052-1687863600-1687878000@granbycouncilonaging.org
SUMMARY:Produce Bag Pick-up
DESCRIPTION:
URL:https://granbycouncilonaging.org/event/produce-bag-pick-up-2/
END:VEVENT
BEGIN:VEVENT
DTSTART;TZID=America/New_York:20230626T130000
DTEND;TZID=America/New_York:20230626T150000
DTSTAMP:20260423T043402
CREATED:20230523T162312Z
LAST-MODIFIED:20230523T162312Z
UID:1031-1687784400-1687791600@granbycouncilonaging.org
SUMMARY:Pitch
DESCRIPTION:
URL:https://granbycouncilonaging.org/event/pitch-9/
END:VEVENT
BEGIN:VEVENT
DTSTART;TZID=America/New_York:20230626T100000
DTEND;TZID=America/New_York:20230626T110000
DTSTAMP:20260423T043402
CREATED:20230523T155827Z
LAST-MODIFIED:20230523T155827Z
UID:999-1687773600-1687777200@granbycouncilonaging.org
SUMMARY:Healthy Bones & Balance
DESCRIPTION:
URL:https://granbycouncilonaging.org/event/healthy-bones-balance-28/
END:VEVENT
BEGIN:VEVENT
DTSTART;TZID=America/New_York:20230623T130000
DTEND;TZID=America/New_York:20230623T150000
DTSTAMP:20260423T043402
CREATED:20230523T162044Z
LAST-MODIFIED:20230523T162044Z
UID:1023-1687525200-1687532400@granbycouncilonaging.org
SUMMARY:Fun Cards Group
DESCRIPTION:
URL:https://granbycouncilonaging.org/event/fun-cards-group-18/
END:VEVENT
BEGIN:VEVENT
DTSTART;TZID=America/New_York:20230623T100000
DTEND;TZID=America/New_York:20230623T110000
DTSTAMP:20260423T043402
CREATED:20230523T161858Z
LAST-MODIFIED:20230523T161858Z
UID:1015-1687514400-1687518000@granbycouncilonaging.org
SUMMARY:Easy Country Fitness
DESCRIPTION:
URL:https://granbycouncilonaging.org/event/easy-country-fitness-19/
END:VEVENT
BEGIN:VEVENT
DTSTART;TZID=America/New_York:20230622T100000
DTEND;TZID=America/New_York:20230622T110000
DTSTAMP:20260423T043402
CREATED:20230523T155654Z
LAST-MODIFIED:20230523T155654Z
UID:995-1687428000-1687431600@granbycouncilonaging.org
SUMMARY:Healthy Bones & Balance
DESCRIPTION:
URL:https://granbycouncilonaging.org/event/healthy-bones-balance-26/
END:VEVENT
BEGIN:VEVENT
DTSTART;TZID=America/New_York:20230621T093000
DTEND;TZID=America/New_York:20230621T103000
DTSTAMP:20260423T043402
CREATED:20230523T163303Z
LAST-MODIFIED:20230523T163303Z
UID:1041-1687339800-1687343400@granbycouncilonaging.org
SUMMARY:COA Advisory Meeting
DESCRIPTION:
URL:https://granbycouncilonaging.org/event/coa-advisory-meeting-2/
END:VEVENT
BEGIN:VEVENT
DTSTART;TZID=America/New_York:20230620T130000
DTEND;TZID=America/New_York:20230620T150000
DTSTAMP:20260423T043402
CREATED:20230523T162614Z
LAST-MODIFIED:20230523T162614Z
UID:1037-1687266000-1687273200@granbycouncilonaging.org
SUMMARY:Quilting Group
DESCRIPTION:
URL:https://granbycouncilonaging.org/event/quilting-group-9/
END:VEVENT
BEGIN:VEVENT
DTSTART;TZID=America/New_York:20230620T110000
DTEND;TZID=America/New_York:20230620T150000
DTSTAMP:20260423T043402
CREATED:20230523T164052Z
LAST-MODIFIED:20230523T164052Z
UID:1050-1687258800-1687273200@granbycouncilonaging.org
SUMMARY:Brown Bag Pick-up
DESCRIPTION:
URL:https://granbycouncilonaging.org/event/brown-bag-pick-up-3/
END:VEVENT
BEGIN:VEVENT
DTSTART;TZID=America/New_York:20230616T130000
DTEND;TZID=America/New_York:20230616T150000
DTSTAMP:20260423T043402
CREATED:20230523T164346Z
LAST-MODIFIED:20230523T164346Z
UID:1054-1686920400-1686927600@granbycouncilonaging.org
SUMMARY:Fun Cards Group
DESCRIPTION:
URL:https://granbycouncilonaging.org/event/fun-cards-group-20/
END:VEVENT
BEGIN:VEVENT
DTSTART;TZID=America/New_York:20230616T100000
DTEND;TZID=America/New_York:20230616T110000
DTSTAMP:20260423T043402
CREATED:20230523T161840Z
LAST-MODIFIED:20230523T161840Z
UID:1013-1686909600-1686913200@granbycouncilonaging.org
SUMMARY:Easy Country Fitness
DESCRIPTION:
URL:https://granbycouncilonaging.org/event/easy-country-fitness-18/
END:VEVENT
END:VCALENDAR