BEGIN:VCALENDAR
VERSION:2.0
PRODID:-//Granby Senior Center - ECPv6.15.20//NONSGML v1.0//EN
CALSCALE:GREGORIAN
METHOD:PUBLISH
X-WR-CALNAME:Granby Senior Center
X-ORIGINAL-URL:https://granbycouncilonaging.org
X-WR-CALDESC:Events for Granby Senior Center
REFRESH-INTERVAL;VALUE=DURATION:PT1H
X-Robots-Tag:noindex
X-PUBLISHED-TTL:PT1H
BEGIN:VTIMEZONE
TZID:America/New_York
BEGIN:DAYLIGHT
TZOFFSETFROM:-0500
TZOFFSETTO:-0400
TZNAME:EDT
DTSTART:20220313T070000
END:DAYLIGHT
BEGIN:STANDARD
TZOFFSETFROM:-0400
TZOFFSETTO:-0500
TZNAME:EST
DTSTART:20221106T060000
END:STANDARD
BEGIN:DAYLIGHT
TZOFFSETFROM:-0500
TZOFFSETTO:-0400
TZNAME:EDT
DTSTART:20230312T070000
END:DAYLIGHT
BEGIN:STANDARD
TZOFFSETFROM:-0400
TZOFFSETTO:-0500
TZNAME:EST
DTSTART:20231105T060000
END:STANDARD
BEGIN:DAYLIGHT
TZOFFSETFROM:-0500
TZOFFSETTO:-0400
TZNAME:EDT
DTSTART:20240310T070000
END:DAYLIGHT
BEGIN:STANDARD
TZOFFSETFROM:-0400
TZOFFSETTO:-0500
TZNAME:EST
DTSTART:20241103T060000
END:STANDARD
END:VTIMEZONE
BEGIN:VEVENT
DTSTART;TZID=America/New_York:20230626T130000
DTEND;TZID=America/New_York:20230626T150000
DTSTAMP:20260421T073153
CREATED:20230523T162312Z
LAST-MODIFIED:20230523T162312Z
UID:1031-1687784400-1687791600@granbycouncilonaging.org
SUMMARY:Pitch
DESCRIPTION:
URL:https://granbycouncilonaging.org/event/pitch-9/
END:VEVENT
BEGIN:VEVENT
DTSTART;TZID=America/New_York:20230626T100000
DTEND;TZID=America/New_York:20230626T110000
DTSTAMP:20260421T073153
CREATED:20230523T155827Z
LAST-MODIFIED:20230523T155827Z
UID:999-1687773600-1687777200@granbycouncilonaging.org
SUMMARY:Healthy Bones & Balance
DESCRIPTION:
URL:https://granbycouncilonaging.org/event/healthy-bones-balance-28/
END:VEVENT
BEGIN:VEVENT
DTSTART;TZID=America/New_York:20230623T130000
DTEND;TZID=America/New_York:20230623T150000
DTSTAMP:20260421T073153
CREATED:20230523T162044Z
LAST-MODIFIED:20230523T162044Z
UID:1023-1687525200-1687532400@granbycouncilonaging.org
SUMMARY:Fun Cards Group
DESCRIPTION:
URL:https://granbycouncilonaging.org/event/fun-cards-group-18/
END:VEVENT
BEGIN:VEVENT
DTSTART;TZID=America/New_York:20230623T100000
DTEND;TZID=America/New_York:20230623T110000
DTSTAMP:20260421T073153
CREATED:20230523T161858Z
LAST-MODIFIED:20230523T161858Z
UID:1015-1687514400-1687518000@granbycouncilonaging.org
SUMMARY:Easy Country Fitness
DESCRIPTION:
URL:https://granbycouncilonaging.org/event/easy-country-fitness-19/
END:VEVENT
BEGIN:VEVENT
DTSTART;TZID=America/New_York:20230622T100000
DTEND;TZID=America/New_York:20230622T110000
DTSTAMP:20260421T073153
CREATED:20230523T155654Z
LAST-MODIFIED:20230523T155654Z
UID:995-1687428000-1687431600@granbycouncilonaging.org
SUMMARY:Healthy Bones & Balance
DESCRIPTION:
URL:https://granbycouncilonaging.org/event/healthy-bones-balance-26/
END:VEVENT
BEGIN:VEVENT
DTSTART;TZID=America/New_York:20230621T093000
DTEND;TZID=America/New_York:20230621T103000
DTSTAMP:20260421T073153
CREATED:20230523T163303Z
LAST-MODIFIED:20230523T163303Z
UID:1041-1687339800-1687343400@granbycouncilonaging.org
SUMMARY:COA Advisory Meeting
DESCRIPTION:
URL:https://granbycouncilonaging.org/event/coa-advisory-meeting-2/
END:VEVENT
BEGIN:VEVENT
DTSTART;TZID=America/New_York:20230620T130000
DTEND;TZID=America/New_York:20230620T150000
DTSTAMP:20260421T073153
CREATED:20230523T162614Z
LAST-MODIFIED:20230523T162614Z
UID:1037-1687266000-1687273200@granbycouncilonaging.org
SUMMARY:Quilting Group
DESCRIPTION:
URL:https://granbycouncilonaging.org/event/quilting-group-9/
END:VEVENT
BEGIN:VEVENT
DTSTART;TZID=America/New_York:20230620T110000
DTEND;TZID=America/New_York:20230620T150000
DTSTAMP:20260421T073153
CREATED:20230523T164052Z
LAST-MODIFIED:20230523T164052Z
UID:1050-1687258800-1687273200@granbycouncilonaging.org
SUMMARY:Brown Bag Pick-up
DESCRIPTION:
URL:https://granbycouncilonaging.org/event/brown-bag-pick-up-3/
END:VEVENT
BEGIN:VEVENT
DTSTART;TZID=America/New_York:20230616T130000
DTEND;TZID=America/New_York:20230616T150000
DTSTAMP:20260421T073153
CREATED:20230523T164346Z
LAST-MODIFIED:20230523T164346Z
UID:1054-1686920400-1686927600@granbycouncilonaging.org
SUMMARY:Fun Cards Group
DESCRIPTION:
URL:https://granbycouncilonaging.org/event/fun-cards-group-20/
END:VEVENT
BEGIN:VEVENT
DTSTART;TZID=America/New_York:20230616T100000
DTEND;TZID=America/New_York:20230616T110000
DTSTAMP:20260421T073153
CREATED:20230523T161840Z
LAST-MODIFIED:20230523T161840Z
UID:1013-1686909600-1686913200@granbycouncilonaging.org
SUMMARY:Easy Country Fitness
DESCRIPTION:
URL:https://granbycouncilonaging.org/event/easy-country-fitness-18/
END:VEVENT
BEGIN:VEVENT
DTSTART;TZID=America/New_York:20230615T123000
DTEND;TZID=America/New_York:20230615T133000
DTSTAMP:20260421T073153
CREATED:20230523T163524Z
LAST-MODIFIED:20230523T163524Z
UID:1047-1686832200-1686835800@granbycouncilonaging.org
SUMMARY:Premier Swing Bang ' Name that TV theme'
DESCRIPTION:
URL:https://granbycouncilonaging.org/event/premier-swing-bang-name-that-tv-theme/
END:VEVENT
BEGIN:VEVENT
DTSTART;TZID=America/New_York:20230615T100000
DTEND;TZID=America/New_York:20230615T110000
DTSTAMP:20260421T073153
CREATED:20230523T155549Z
LAST-MODIFIED:20230523T155549Z
UID:993-1686823200-1686826800@granbycouncilonaging.org
SUMMARY:Healthy Bones & Balance
DESCRIPTION:
URL:https://granbycouncilonaging.org/event/healthy-bones-balance-25/
END:VEVENT
BEGIN:VEVENT
DTSTART;TZID=America/New_York:20230614T130000
DTEND;TZID=America/New_York:20230614T150000
DTSTAMP:20260421T073153
CREATED:20230523T163341Z
LAST-MODIFIED:20230523T163341Z
UID:1043-1686747600-1686754800@granbycouncilonaging.org
SUMMARY:Cross-stitching Group
DESCRIPTION:
URL:https://granbycouncilonaging.org/event/cross-stitching-group-6/
END:VEVENT
BEGIN:VEVENT
DTSTART;TZID=America/New_York:20230613T110000
DTEND;TZID=America/New_York:20230613T140000
DTSTAMP:20260421T073153
CREATED:20230523T164827Z
LAST-MODIFIED:20230523T164900Z
UID:1056-1686654000-1686664800@granbycouncilonaging.org
SUMMARY:Lunch Outing: Johnny's Bar & grille
DESCRIPTION:Limit to 7. Van ride $2. Lunch is on your own. Sign up by  June 9th. \nDepart from Granby COA at 11:15 a.m.
URL:https://granbycouncilonaging.org/event/lunch-outing-johnnys-bar-grille/
END:VEVENT
BEGIN:VEVENT
DTSTART;TZID=America/New_York:20230612T130000
DTEND;TZID=America/New_York:20230612T150000
DTSTAMP:20260421T073153
CREATED:20230523T162249Z
LAST-MODIFIED:20230523T162249Z
UID:1029-1686574800-1686582000@granbycouncilonaging.org
SUMMARY:Pitch
DESCRIPTION:
URL:https://granbycouncilonaging.org/event/pitch-8/
END:VEVENT
BEGIN:VEVENT
DTSTART;TZID=America/New_York:20230612T100000
DTEND;TZID=America/New_York:20230612T110000
DTSTAMP:20260421T073153
CREATED:20230523T155511Z
LAST-MODIFIED:20230523T155511Z
UID:991-1686564000-1686567600@granbycouncilonaging.org
SUMMARY:Healthy Bones & Balance
DESCRIPTION:
URL:https://granbycouncilonaging.org/event/healthy-bones-balance-24/
END:VEVENT
BEGIN:VEVENT
DTSTART;TZID=America/New_York:20230609T130000
DTEND;TZID=America/New_York:20230609T150000
DTSTAMP:20260421T073153
CREATED:20230523T162023Z
LAST-MODIFIED:20230523T162023Z
UID:1021-1686315600-1686322800@granbycouncilonaging.org
SUMMARY:Fun Cards Group
DESCRIPTION:
URL:https://granbycouncilonaging.org/event/fun-cards-group-17/
END:VEVENT
BEGIN:VEVENT
DTSTART;TZID=America/New_York:20230609T100000
DTEND;TZID=America/New_York:20230609T110000
DTSTAMP:20260421T073153
CREATED:20230523T161822Z
LAST-MODIFIED:20230523T161822Z
UID:1011-1686304800-1686308400@granbycouncilonaging.org
SUMMARY:Easy Country Fitness
DESCRIPTION:
URL:https://granbycouncilonaging.org/event/easy-country-fitness-17/
END:VEVENT
BEGIN:VEVENT
DTSTART;TZID=America/New_York:20230608T080000
DTEND;TZID=America/New_York:20230608T170000
DTSTAMP:20260421T073153
CREATED:20230523T155442Z
LAST-MODIFIED:20230523T155442Z
UID:989-1686211200-1686243600@granbycouncilonaging.org
SUMMARY:Healthy Bones & Balance
DESCRIPTION:
URL:https://granbycouncilonaging.org/event/healthy-bones-balance-23/
END:VEVENT
BEGIN:VEVENT
DTSTART;TZID=America/New_York:20230607T123000
DTEND;TZID=America/New_York:20230607T143000
DTSTAMP:20260421T073153
CREATED:20230523T161557Z
LAST-MODIFIED:20230523T161557Z
UID:1003-1686141000-1686148200@granbycouncilonaging.org
SUMMARY:BINGO
DESCRIPTION:Cash prizes\, door prizes\, and light refreshments. 1 card for $3 or 2 for $5. Limit 4 cards per person. Please pre-register.
URL:https://granbycouncilonaging.org/event/bingo-4/
END:VEVENT
BEGIN:VEVENT
DTSTART;TZID=America/New_York:20230607T093000
DTEND;TZID=America/New_York:20230607T103000
DTSTAMP:20260421T073153
CREATED:20230523T163230Z
LAST-MODIFIED:20230523T163230Z
UID:1039-1686130200-1686133800@granbycouncilonaging.org
SUMMARY:Veterans Corner
DESCRIPTION:
URL:https://granbycouncilonaging.org/event/veterans-corner-4/
END:VEVENT
BEGIN:VEVENT
DTSTART;TZID=America/New_York:20230606T130000
DTEND;TZID=America/New_York:20230606T150000
DTSTAMP:20260421T073153
CREATED:20230523T162541Z
LAST-MODIFIED:20230523T162541Z
UID:1035-1686056400-1686063600@granbycouncilonaging.org
SUMMARY:Quilting Group
DESCRIPTION:
URL:https://granbycouncilonaging.org/event/quilting-group-8/
END:VEVENT
BEGIN:VEVENT
DTSTART;TZID=America/New_York:20230605T130000
DTEND;TZID=America/New_York:20230605T150000
DTSTAMP:20260421T073153
CREATED:20230523T162353Z
LAST-MODIFIED:20230523T162353Z
UID:1033-1685970000-1685977200@granbycouncilonaging.org
SUMMARY:Stamp Collectors
DESCRIPTION:
URL:https://granbycouncilonaging.org/event/stamp-collectors-8/
END:VEVENT
BEGIN:VEVENT
DTSTART;TZID=America/New_York:20230605T130000
DTEND;TZID=America/New_York:20230605T150000
DTSTAMP:20260421T073153
CREATED:20230523T162227Z
LAST-MODIFIED:20230523T162227Z
UID:1027-1685970000-1685977200@granbycouncilonaging.org
SUMMARY:Pitch
DESCRIPTION:
URL:https://granbycouncilonaging.org/event/pitch-7/
END:VEVENT
BEGIN:VEVENT
DTSTART;TZID=America/New_York:20230605T100000
DTEND;TZID=America/New_York:20230605T110000
DTSTAMP:20260421T073153
CREATED:20230523T155358Z
LAST-MODIFIED:20230523T155358Z
UID:987-1685959200-1685962800@granbycouncilonaging.org
SUMMARY:Healthy Bones & Balance
DESCRIPTION:
URL:https://granbycouncilonaging.org/event/healthy-bones-balance-22/
END:VEVENT
BEGIN:VEVENT
DTSTART;TZID=America/New_York:20230602T130000
DTEND;TZID=America/New_York:20230602T150000
DTSTAMP:20260421T073153
CREATED:20230523T161958Z
LAST-MODIFIED:20230523T161958Z
UID:1019-1685710800-1685718000@granbycouncilonaging.org
SUMMARY:Fun Cards Group
DESCRIPTION:
URL:https://granbycouncilonaging.org/event/fun-cards-group-16/
END:VEVENT
BEGIN:VEVENT
DTSTART;TZID=America/New_York:20230602T100000
DTEND;TZID=America/New_York:20230602T110000
DTSTAMP:20260421T073153
CREATED:20230523T161803Z
LAST-MODIFIED:20230523T161803Z
UID:1009-1685700000-1685703600@granbycouncilonaging.org
SUMMARY:Easy Country Fitness
DESCRIPTION:
URL:https://granbycouncilonaging.org/event/easy-country-fitness-16/
END:VEVENT
BEGIN:VEVENT
DTSTART;TZID=America/New_York:20230601T120000
DTEND;TZID=America/New_York:20230601T130000
DTSTAMP:20260421T073153
CREATED:20230523T161716Z
LAST-MODIFIED:20230523T161716Z
UID:1007-1685620800-1685624400@granbycouncilonaging.org
SUMMARY:Senator Oliveira's Office Hour
DESCRIPTION:
URL:https://granbycouncilonaging.org/event/senator-oliveiras-office-hour/
END:VEVENT
BEGIN:VEVENT
DTSTART;TZID=America/New_York:20230601T110000
DTEND;TZID=America/New_York:20230601T120000
DTSTAMP:20260421T073153
CREATED:20230523T161632Z
LAST-MODIFIED:20230523T161632Z
UID:1005-1685617200-1685620800@granbycouncilonaging.org
SUMMARY:Blood Pressure Clinic
DESCRIPTION:
URL:https://granbycouncilonaging.org/event/blood-pressure-clinic-4/
END:VEVENT
BEGIN:VEVENT
DTSTART;TZID=America/New_York:20230601T100000
DTEND;TZID=America/New_York:20230601T110000
DTSTAMP:20260421T073153
CREATED:20230523T155246Z
LAST-MODIFIED:20230523T155246Z
UID:985-1685613600-1685617200@granbycouncilonaging.org
SUMMARY:Healthy Bones & Balance
DESCRIPTION:
URL:https://granbycouncilonaging.org/event/healthy-bones-balance-21/
END:VEVENT
END:VCALENDAR